BEGIN:VCALENDAR
VERSION:2.0
PRODID:-//ddaysoftware.com//NONSGML DDay.iCal 1.0//EN
BEGIN:VTIMEZONE
TZID:W. Europe Standard Time
BEGIN:STANDARD
DTSTART:20251002T030000
RRULE:FREQ=YEARLY;BYDAY=-1SU;BYHOUR=3;BYMINUTE=0;BYMONTH=10
TZNAME:W. Europe Standard Time
TZOFFSETFROM:+0200
TZOFFSETTO:+0100
END:STANDARD
BEGIN:DAYLIGHT
DTSTART:20250301T020000
RRULE:FREQ=YEARLY;BYDAY=-1SU;BYHOUR=2;BYMINUTE=0;BYMONTH=3
TZNAME:W. Europe Daylight Time
TZOFFSETFROM:+0100
TZOFFSETTO:+0200
END:DAYLIGHT
END:VTIMEZONE
BEGIN:VEVENT
CATEGORIES:Wissen\, Vorträge & Lesungen
DESCRIPTION:Buchhandlung Rupprecht\, Nürnberger Straße 24 - 26\, 91052 Erla
 ngen\n\nVeranstalter: Buchhandlung\n\nhttps://www.erlangen-hoechstadt.de/a
 ktuelles/veranstaltungskalender/ein-abend-mit-sebastian-fitzek-der-nachtzu
 g/
DTEND;VALUE=DATE:20261118
DTSTAMP:20260420T180747Z
DTSTART;VALUE=DATE:20261117
SEQUENCE:0
SUMMARY:Ein Abend mit Sebastian Fitzek - Der Nachtzug
UID:53656
URL:https://www.erlangen-hoechstadt.de/aktuelles/veranstaltungskalender/ein
 -abend-mit-sebastian-fitzek-der-nachtzug/
END:VEVENT
END:VCALENDAR
